BEGIN:VCALENDAR
VERSION:2.0
PRODID:-//Municipio de Salina Cruz 2025 - 2027 - ECPv6.9.1//NONSGML v1.0//EN
CALSCALE:GREGORIAN
METHOD:PUBLISH
X-WR-CALNAME:Municipio de Salina Cruz 2025 - 2027
X-ORIGINAL-URL:https://salina-cruz.gob.mx
X-WR-CALDESC:Eventos para Municipio de Salina Cruz 2025 - 2027
REFRESH-INTERVAL;VALUE=DURATION:PT1H
X-Robots-Tag:noindex
X-PUBLISHED-TTL:PT1H
BEGIN:VTIMEZONE
TZID:UTC
BEGIN:STANDARD
TZOFFSETFROM:+0000
TZOFFSETTO:+0000
TZNAME:UTC
DTSTART:20250101T000000
END:STANDARD
END:VTIMEZONE
BEGIN:VEVENT
DTSTART;VALUE=DATE:20250510
DTEND;VALUE=DATE:20250511
DTSTAMP:20260422T190320
CREATED:20250129T174928Z
LAST-MODIFIED:20250129T175310Z
UID:1442-1746835200-1746921599@salina-cruz.gob.mx
SUMMARY:Día de las Madres
DESCRIPTION:Día de las Madres
URL:https://salina-cruz.gob.mx/event/dia-de-las-madres/
LOCATION:Salina Cruz\, Salina Cruz\, Oaxaca\, Mexico
CATEGORIES:Event List,Events,Events Grid
ATTACH;FMTTYPE=image/jpeg:https://salina-cruz.gob.mx/wp-content/uploads/2025/01/Lac-Promocion-Mayo-2023-1024x536-1.jpg
END:VEVENT
END:VCALENDAR